Workbook

Sheet DE & ALBS
A1: DE & ARMS LENGTH BODIES - PROMPT PAYMENT TABLE FOR 2026-27
A2: COMPLIANCE WITH PROMPT PAYMENT POLICY | Q2: Year to Date Totals
C3: March | D3: 2025/26 | E3: April | F3: May | G3: June | H3: July | I3: August | J3: September | K3: October | L3: November | M3: December | N3: January | O3: February | P3: March
A4: Department of Education | B4: Total invoices paid | E4: 138 | F4: 149 | G4: 125 | H4: 129 | I4: 128 | J4: 163 | Q4: =SUM(E4:P4) -> 832
A5: Department of Education | B5: Total Invoices paid within 10 days | E5: 127 | F5: 146 | G5: 115 | H5: 117 | I5: 115 | J5: 145 | Q5: =SUM(E5:P5) -> 765
B6: Percentage of invoices paid within 10 days | C6: =C5/C4 -> #DIV/0! | D6: =D5/D4 -> #DIV/0! | E6: =E5/E4 -> 0.92028986 | F6: =F5/F4 -> 0.97986577 | G6: =G5/G4 -> 0.92 | H6: =H5/H4 -> 0.90697674 | I6: =I5/I4 -> 0.8984375 | J6: =J5/J4 -> 0.88957055 | ... Q6: =Q5/Q4 -> 0.91947115
B7: Total invoices paid within 30 days | E7: 137 | F7: 149 | G7: 125 | H7: 126 | I7: 127 | J7: 152 | Q7: =SUM(E7:P7) -> 816
B8: Percentage of invoices paid within 30 days | C8: =C7/C4 -> #DIV/0! | D8: =D7/D4 -> #DIV/0! | E8: =E7/E4 -> 0.99275362 | F8: =F7/F4 -> 1 | G8: =G7/G4 -> 1 | H8: =H7/H4 -> 0.97674419 | I8: =I7/I4 -> 0.9921875 | J8: =J7/J4 -> 0.93251534 | ... Q8: =Q7/Q4 -> 0.98076923
A9: Education Authority | B9: Total invoices paid | E9: 20423 | F9: 30022 | G9: 43082 | H9: 25866 | I9: 16058 | Q9: =SUM(E9:P9) -> 135451
B10: Total invoices paid within 10 days | E10: 17581 | F10: 25873 | G10: 36720 | H10: 22106 | I10: 14542 | Q10: =SUM(E10:P10) -> 116822
B11: Percentage of invoices paid within 10 days | C11: =C10/C9 -> #DIV/0! | D11: =D10/D9 -> #DIV/0! | E11: =E10/E9 -> 0.86084317 | F11: =F10/F9 -> 0.86180135 | G11: =G10/G9 -> 0.85232812 | H11: =H10/H9 -> 0.85463543 | I11: =I10/I9 -> 0.90559223 | J11: =J10/J9 -> #DIV/0! | ... Q11: =Q10/Q9 -> 0.86246687
B12: Total invoices paid within 30 days | E12: 19549 | F12: 28940 | G12: 41550 | H12: 24630 | I12: 15014 | Q12: =SUM(E12:P12) -> 129683
B13: Percentage of invoices paid within 30 days | C13: =C12/C9 -> #DIV/0! | D13: =D12/D9 -> #DIV/0! | E13: =E12/E9 -> 0.95720511 | F13: =F12/F9 -> 0.96395976 | G13: =G12/G9 -> 0.96443991 | H13: =H12/H9 -> 0.95221526 | I13: =I12/I9 -> 0.93498568 | J13: =J12/J9 -> #DIV/0! | ... Q13: =Q12/Q9 -> 0.95741634
A14: Council for the Curriculum, Examinations & Assessment | B14: Total invoices paid | E14: 124 | F14: 169 | G14: 247 | H14: 156 | I14: 152 | J14: 139 | Q14: =SUM(E14:P14) -> 987
B15: Total Invoices paid within 10 days | E15: 119 | F15: 162 | G15: 237 | H15: 151 | I15: 142 | J15: 136 | Q15: =SUM(E15:P15) -> 947
A16: CCEA | B16: Percentage of invoices paid within 10 days | C16: =C15/C14 -> #DIV/0! | D16: =D15/D14 -> #DIV/0! | E16: =E15/E14 -> 0.95967742 | F16: =F15/F14 -> 0.95857988 | G16: =G15/G14 -> 0.95951417 | H16: =H15/H14 -> 0.96794872 | I16: =I15/I14 -> 0.93421053 | J16: =J15/J14 -> 0.97841727 | ... Q16: =Q15/Q14 -> 0.95947315
B17: Total invoices paid within 30 days | E17: 122 | F17: 167 | G17: 246 | H17: 153 | I17: 150 | J17: 139 | Q17: =SUM(E17:P17) -> 977
B18: Percentage of invoices paid within 30 days | C18: =C17/C14 -> #DIV/0! | D18: =D17/D14 -> #DIV/0! | E18: =E17/E14 -> 0.98387097 | F18: =F17/F14 -> 0.98816568 | G18: =G17/G14 -> 0.99595142 | H18: =H17/H14 -> 0.98076923 | I18: =I17/I14 -> 0.98684211 | J18: =J17/J14 -> 1 | ... Q18: =Q17/Q14 -> 0.98986829
A19: Council for Catholic Maintained Schools | B19: Total invoices paid | E19: 67 | F19: 48 | G19: 68 | H19: 34 | I19: 41 | Q19: =SUM(E19:P19) -> 258
B20: Total invoices paid within 10 days | E20: 66 | F20: 47 | G20: 68 | H20: 32 | I20: 41 | Q20: =SUM(E20:P20) -> 254
A21: CCMS | B21: Percentage of invoices paid within 10 days | C21: =C20/C19 -> #DIV/0! | D21: =D20/D19 -> #DIV/0! | E21: =E20/E19 -> 0.98507463 | F21: =F20/F19 -> 0.97916667 | G21: =G20/G19 -> 1 | H21: =H20/H19 -> 0.94117647 | I21: =I20/I19 -> 1 | J21: =J20/J19 -> #DIV/0! | ... Q21: =Q20/Q19 -> 0.98449612
B22: Total invoices paid within 30 days | E22: 66 | F22: 47 | G22: 68 | H22: 34 | I22: 41 | Q22: =SUM(E22:P22) -> 256
B23: Percentage of invoices paid within 30 days | C23: =C22/C19 -> #DIV/0! | D23: =D22/D19 -> #DIV/0! | E23: =E22/E19 -> 0.98507463 | F23: =F22/F19 -> 0.97916667 | G23: =G22/G19 -> 1 | H23: =H22/H19 -> 1 | I23: =I22/I19 -> 1 | J23: =J22/J19 -> #DIV/0! | ... Q23: =Q22/Q19 -> 0.99224806
A24: Youth Council | B24: Total invoices paid | E24: 0 | F24: 0 | G24: 0 | H24: 0 | I24: 0 | J24: 0 | Q24: =SUM(E24:P24) -> 0
B25: Total invoices paid within 10 days | E25: 0 | F25: 0 | G25: 0 | H25: 0 | I25: 0 | J25: 0 | Q25: =SUM(E25:P25) -> 0
B26: Percentage of invoices paid within 10 days | C26: =C25/C24 -> #DIV/0! | D26: =D25/D24 -> #DIV/0! | E26: =E25/E24 -> #DIV/0! | F26: =F25/F24 -> #DIV/0! | G26: =G25/G24 -> #DIV/0! | H26: =H25/H24 -> #DIV/0! | I26: =I25/I24 -> #DIV/0! | J26: 0 | K26: =K25/K24 -> #DIV/0! | L26: =L25/L24 -> #DIV/0! | M26: =M25/M24 -> #DIV/0! | N26: =N25/N24 -> #DIV/0! | O26: =O25/O24 -> #DIV/0! | P26: =P25/P24 -> #DIV/0! | Q26: =Q25/Q24 -> #DIV/0!
B27: Total invoices paid within 30 days | E27: 0 | F27: 0 | G27: 0 | H27: 0 | I27: 0 | J27: 0 | Q27: =SUM(E27:P27) -> 0
B28: Percentage of invoices paid within 30 days | C28: =C27/C24 -> #DIV/0! | D28: =D27/D24 -> #DIV/0! | E28: =E27/E24 -> #DIV/0! | F28: =F27/F24 -> #DIV/0! | G28: =G27/G24 -> #DIV/0! | H28: =H27/H24 -> #DIV/0! | I28: =I27/I24 -> #DIV/0! | J28: 0 | K28: =K27/K24 -> #DIV/0! | L28: =L27/L24 -> #DIV/0! | M28: =M27/M24 -> #DIV/0! | N28: =N27/N24 -> #DIV/0! | O28: =O27/O24 -> #DIV/0! | P28: =P27/P24 -> #DIV/0! | Q28: =Q27/Q24 -> #DIV/0!

Sheet Newer ALBS
A1: DE & OTHER ARMS LENGTH BODIES - PROMPT PAYMENT TABLE FOR 2026-27
A2: COMPLIANCE WITH PROMPT PAYMENT POLICY | Q2: Year to Date Totals
C3: March | D3: 2025/26 | E3: April | F3: May | G3: June | H3: July | I3: August | J3: September | K3: October | L3: November | M3: December | N3: January | O3: February | P3: March
A4: Northern Ireland Council for Integrated Education NICIE | B4: Total invoices paid | E4: 25 | F4: 29 | G4: 52 | H4: 24 | I4: 23 | Q4: =SUM(E4:P4) -> 153
B5: Total invoices paid within 10 days | E5: 23 | F5: 27 | G5: 49 | H5: 23 | I5: 21 | Q5: =SUM(E5:P5) -> 143
B6: Percentage of invoices paid within 10 days | C6: =C5/C4 -> #DIV/0! | D6: =D5/D4 -> #DIV/0! | E6: =E5/E4 -> 0.92 | F6: =F5/F4 -> 0.93103448 | G6: =G5/G4 -> 0.94230769 | H6: =H5/H4 -> 0.95833333 | I6: =I5/I4 -> 0.91304348 | J6: =J5/J4 -> #DIV/0! | ... Q6: =Q5/Q4 -> 0.93464052
B7: Total invoices paid within 30 days | E7: 25 | F7: 29 | G7: 52 | H7: 24 | I7: 23 | Q7: =SUM(E7:P7) -> 153
B8: Percentage of invoices paid within 30 days | C8: =C7/C4 -> #DIV/0! | D8: =D7/D4 -> #DIV/0! | E8: =E7/E4 -> 1 | F8: =F7/F4 -> 1 | G8: =G7/G4 -> 1 | H8: =H7/H4 -> 1 | I8: =I7/I4 -> 1 | J8: =J7/J4 -> #DIV/0! | ... Q8: =Q7/Q4 -> 1
A9: Comhairle na Galescolaiochta CnaG | B9: Total invoices paid | E9: 4 | F9: 9 | G9: 12 | H9: 7 | I9: 6 | J9: 8 | Q9: =SUM(E9:P9) -> 46
B10: Total Invoices paid within 10 days | E10: 0 | F10: 5 | G10: 5 | H10: 2 | I10: 2 | J10: 0 | Q10: =SUM(E10:P10) -> 14
B11: Percentage of invoices paid within 10 days | C11: =C10/C9 -> #DIV/0! | D11: =D10/D9 -> #DIV/0! | E11: =E10/E9 -> 0 | F11: =F10/F9 -> 0.55555556 | G11: =G10/G9 -> 0.41666667 | H11: =H10/H9 -> 0.28571429 | I11: =I10/I9 -> 0.33333333 | J11: =J10/J9 -> 0 | ... Q11: =Q10/Q9 -> 0.30434783
B12: Total invoices paid within 30 days | E12: 4 | F12: 8 | G12: 10 | H12: 5 | I12: 6 | J12: 4 | Q12: =SUM(E12:P12) -> 37
B13: Percentage of invoices paid within 30 days | C13: =C12/C9 -> #DIV/0! | D13: =D12/D9 -> #DIV/0! | E13: =E12/E9 -> 1 | F13: =F12/F9 -> 0.88888889 | G13: =G12/G9 -> 0.83333333 | H13: =H12/H9 -> 0.71428571 | I13: =I12/I9 -> 1 | J13: =J12/J9 -> 0.5 | ... Q13: =Q12/Q9 -> 0.80434783
A14: General Teaching Council for Northern Ireland GTCNI | B14: Total invoices paid | E14: 24 | F14: 24 | G14: 26 | H14: 14 | I14: 24 | J14: 16 | Q14: =SUM(E14:P14) -> 128
B15: Total invoices paid within 10 days | E15: 24 | F15: 24 | G15: 26 | H15: 14 | I15: 24 | J15: 16 | Q15: =SUM(E15:P15) -> 128
B16: Percentage of invoices paid within 10 days | C16: =C15/C14 -> #DIV/0! | D16: =D15/D14 -> #DIV/0! | E16: =E15/E14 -> 1 | F16: =F15/F14 -> 1 | G16: =G15/G14 -> 1 | H16: =H15/H14 -> 1 | I16: =I15/I14 -> 1 | J16: =J15/J14 -> 1 | ... Q16: =Q15/Q14 -> 1
B17: Total invoices paid within 30 days | E17: 24 | F17: 24 | G17: 26 | H17: 14 | I17: 24 | J17: 16 | Q17: =SUM(E17:P17) -> 128
B18: Percentage of invoices paid within 30 days | C18: =C17/C14 -> #DIV/0! | D18: =D17/D14 -> #DIV/0! | E18: =E17/E14 -> 1 | F18: =F17/F14 -> 1 | G18: =G17/G14 -> 1 | H18: =H17/H14 -> 1 | I18: =I17/I14 -> 1 | J18: =J17/J14 -> 1 | ... Q18: =Q17/Q14 -> 1
A19: Middletown Centre for Autism | B19: Total invoices paid | E19: 70 | F19: 62 | G19: 71 | H19: 70 | I19: 60 | Q19: =SUM(E19:P19) -> 333
B20: Total Invoices paid within 10 days | E20: 17 | F20: 24 | G20: 53 | H20: 59 | I20: 45 | Q20: =SUM(E20:P20) -> 198
B21: Percentage of invoices paid within 10 days | C21: =C20/C19 -> #DIV/0! | D21: =D20/D19 -> #DIV/0! | E21: =E20/E19 -> 0.24285714 | F21: =F20/F19 -> 0.38709677 | G21: =G20/G19 -> 0.74647887 | H21: =H20/H19 -> 0.84285714 | I21: =I20/I19 -> 0.75 | J21: =J20/J19 -> #DIV/0! | ... Q21: =Q20/Q19 -> 0.59459459
B22: Total invoices paid within 30 days | E22: 33 | F22: 61 | G22: 70 | H22: 70 | I22: 59 | Q22: =SUM(E22:P22) -> 293
B23: Percentage of invoices paid within 30 days | C23: =C22/C19 -> #DIV/0! | D23: =D22/D19 -> #DIV/0! | E23: =E22/E19 -> 0.47142857 | F23: =F22/F19 -> 0.98387097 | G23: =G22/G19 -> 0.98591549 | H23: =H22/H19 -> 1 | I23: =I22/I19 -> 0.98333333 | J23: =J22/J19 -> #DIV/0! | ... Q23: =Q22/Q19 -> 0.87987988

Sheet DE Board Info - A4-Word
B1: Total invoices paid within 30 days | D1: 533196 | E1: =#REF!+#REF!+#REF!+#REF!+#REF! -> #REF! | F1: =#REF!+#REF!+#REF!+#REF!+#REF! -> #REF! | G1: =#REF!+#REF!+#REF!+#REF!+#REF! -> #REF! | H1: =#REF!+#REF!+#REF!+#REF!+#REF! -> #REF! | I1: =#REF!+#REF!+#REF!+#REF!+#REF! -> #REF! | J1: =#REF!+#REF!+#REF!+#REF!+#REF! -> #REF! | K1: =#REF!+#REF!+#REF!+#REF!+#REF! -> #REF! | L1: =#REF!+#REF!+#REF!+#REF!+#REF! -> #REF! | ... P1: =#REF!+#REF!+#REF!+#REF!+#REF! -> #REF! | Q1: =SUM(E1:P1) -> #REF!
B2: Percentage of invoices paid within 30 days | D2: =D1/#REF! -> #REF! | E2: =E1/#REF! -> #REF! | F2: =F1/#REF! -> #REF! | G2: =G1/#REF! -> #REF! | H2: =H1/#REF! -> #REF! | I2: =I1/#REF! -> #REF! | J2: =J1/#REF! -> #REF! | K2: =K1/#REF! -> #REF! | ... Q2: =Q1/#REF! -> #REF!
A4: DE & ARMS LENGTH BODIES - PROMPT PAYMENT TABLE FOR 2026-27
A5: COMPLIANCE WITH PROMPT PAYMENT POLICY | C5: 2025/26 | D5: April | E5: May | F5: June | G5: July | H5: August | I5: September | J5: October | K5: November | L5: December | M5: January | N5: February | O5: March | P5: Year to date Totals
A7: Department of Education | B7: Total invoices paid | C7: ='DE & ALBS'!D4 -> 0 | D7: ='DE & ALBS'!E4 -> 138 | E7: ='DE & ALBS'!F4 -> 149 | F7: ='DE & ALBS'!G4 -> 125 | G7: ='DE & ALBS'!H4 -> 129 | H7: ='DE & ALBS'!I4 -> 128 | I7: ='DE & ALBS'!J4 -> 163 | J7: ='DE & ALBS'!K4 -> 0 | ... P7: ='DE & ALBS'!Q4 -> 832
B8: Total Invoices paid within 10 days | C8: ='DE & ALBS'!D5 -> 0 | D8: ='DE & ALBS'!E5 -> 127 | E8: ='DE & ALBS'!F5 -> 146 | F8: ='DE & ALBS'!G5 -> 115 | G8: ='DE & ALBS'!H5 -> 117 | H8: ='DE & ALBS'!I5 -> 115 | I8: ='DE & ALBS'!J5 -> 145 | J8: ='DE & ALBS'!K5 -> 0 | ... P8: ='DE & ALBS'!Q5 -> 765
B9: Percentage of invoices paid within 10 days | C9: =C8/C7 -> #DIV/0! | D9: =D8/D7 -> 0.92028986 | E9: =E8/E7 -> 0.97986577 | F9: =F8/F7 -> 0.92 | G9: =G8/G7 -> 0.90697674 | H9: =H8/H7 -> 0.8984375 | I9: =I8/I7 -> 0.88957055 | J9: =J8/J7 -> #DIV/0! | ... P9: =P8/P7 -> 0.91947115
B10: Total invoices paid within 30 days | C10: ='DE & ALBS'!D7 -> 0 | D10: ='DE & ALBS'!E7 -> 137 | E10: ='DE & ALBS'!F7 -> 149 | F10: ='DE & ALBS'!G7 -> 125 | G10: ='DE & ALBS'!H7 -> 126 | H10: ='DE & ALBS'!I7 -> 127 | I10: ='DE & ALBS'!J7 -> 152 | J10: ='DE & ALBS'!K7 -> 0 | ... P10: ='DE & ALBS'!Q7 -> 816
B11: Percentage of invoices paid within 30 days | C11: =C10/C7 -> #DIV/0! | D11: =D10/D7 -> 0.99275362 | E11: =E10/E7 -> 1 | F11: =F10/F7 -> 1 | G11: =G10/G7 -> 0.97674419 | H11: =H10/H7 -> 0.9921875 | I11: =I10/I7 -> 0.93251534 | J11: =J10/J7 -> #DIV/0! | ... P11: =P10/P7 -> 0.98076923
A12: Education Authority | B12: Total invoices paid | C12: ='DE & ALBS'!D9 -> 0 | D12: ='DE & ALBS'!E9 -> 20423 | E12: ='DE & ALBS'!F9 -> 30022 | F12: ='DE & ALBS'!G9 -> 43082 | G12: ='DE & ALBS'!H9 -> 25866 | H12: ='DE & ALBS'!I9 -> 16058 | I12: ='DE & ALBS'!J9 -> 0 | J12: ='DE & ALBS'!K9 -> 0 | ... P12: ='DE & ALBS'!Q9 -> 135451
B13: Total invoices paid within 10 days | C13: ='DE & ALBS'!D10 -> 0 | D13: ='DE & ALBS'!E10 -> 17581 | E13: ='DE & ALBS'!F10 -> 25873 | F13: ='DE & ALBS'!G10 -> 36720 | G13: ='DE & ALBS'!H10 -> 22106 | H13: ='DE & ALBS'!I10 -> 14542 | I13: ='DE & ALBS'!J10 -> 0 | J13: ='DE & ALBS'!K10 -> 0 | ... P13: ='DE & ALBS'!Q10 -> 116822
B14: Percentage of invoices paid within 10 days | C14: NA | D14: =D13/D12 -> 0.86084317 | E14: =E13/E12 -> 0.86180135 | F14: =F13/F12 -> 0.85232812 | G14: =G13/G12 -> 0.85463543 | H14: =H13/H12 -> 0.90559223 | I14: =I13/I12 -> #DIV/0! | J14: =J13/J12 -> #DIV/0! | K14: =K13/K12 -> #DIV/0! | ... P14: =P13/P12 -> 0.86246687
A15: CCMS | B15: Total invoices paid within 30 days | C15: ='DE & ALBS'!D12 -> 0 | D15: ='DE & ALBS'!E12 -> 19549 | E15: ='DE & ALBS'!F12 -> 28940 | F15: ='DE & ALBS'!G12 -> 41550 | G15: ='DE & ALBS'!H12 -> 24630 | H15: ='DE & ALBS'!I12 -> 15014 | I15: ='DE & ALBS'!J12 -> 0 | J15: ='DE & ALBS'!K12 -> 0 | ... P15: ='DE & ALBS'!Q12 -> 129683
B16: Percentage of invoices paid within 30 days | C16: =C15/C12 -> #DIV/0! | D16: =D15/D12 -> 0.95720511 | E16: =E15/E12 -> 0.96395976 | F16: =F15/F12 -> 0.96443991 | G16: =G15/G12 -> 0.95221526 | H16: =H15/H12 -> 0.93498568 | I16: =I15/I12 -> #DIV/0! | J16: =J15/J12 -> #DIV/0! | ... P16: =P15/P12 -> 0.95741634
A17: Council for the Curriculum, Examinations & Assessment | B17: Total invoices paid | C17: ='DE & ALBS'!D14 -> 0 | D17: ='DE & ALBS'!E14 -> 124 | E17: ='DE & ALBS'!F14 -> 169 | F17: ='DE & ALBS'!G14 -> 247 | G17: ='DE & ALBS'!H14 -> 156 | H17: ='DE & ALBS'!I14 -> 152 | I17: ='DE & ALBS'!J14 -> 139 | J17: ='DE & ALBS'!K14 -> 0 | ... P17: ='DE & ALBS'!Q14 -> 987
B18: Total Invoices paid within 10 days | C18: ='DE & ALBS'!D15 -> 0 | D18: ='DE & ALBS'!E15 -> 119 | E18: ='DE & ALBS'!F15 -> 162 | F18: ='DE & ALBS'!G15 -> 237 | G18: ='DE & ALBS'!H15 -> 151 | H18: ='DE & ALBS'!I15 -> 142 | I18: ='DE & ALBS'!J15 -> 136 | J18: ='DE & ALBS'!K15 -> 0 | ... P18: ='DE & ALBS'!Q15 -> 947
B19: Percentage of invoices paid within 10 days | C19: =C18/C17 -> #DIV/0! | D19: =D18/D17 -> 0.95967742 | E19: =E18/E17 -> 0.95857988 | F19: =F18/F17 -> 0.95951417 | G19: =G18/G17 -> 0.96794872 | H19: =H18/H17 -> 0.93421053 | I19: =I18/I17 -> 0.97841727 | J19: =J18/J17 -> #DIV/0! | ... P19: =P18/P17 -> 0.95947315
A20: CCEA | B20: Total invoices paid within 30 days | C20: ='DE & ALBS'!D17 -> 0 | D20: ='DE & ALBS'!E17 -> 122 | E20: ='DE & ALBS'!F17 -> 167 | F20: ='DE & ALBS'!G17 -> 246 | G20: ='DE & ALBS'!H17 -> 153 | H20: ='DE & ALBS'!I17 -> 150 | I20: ='DE & ALBS'!J17 -> 139 | J20: ='DE & ALBS'!K17 -> 0 | ... P20: ='DE & ALBS'!Q17 -> 977
B21: Percentage of invoices paid within 30 days | C21: =C20/C17 -> #DIV/0! | D21: =D20/D17 -> 0.98387097 | E21: =E20/E17 -> 0.98816568 | F21: =F20/F17 -> 0.99595142 | G21: =G20/G17 -> 0.98076923 | H21: =H20/H17 -> 0.98684211 | I21: =I20/I17 -> 1 | J21: =J20/J17 -> #DIV/0! | ... P21: =P20/P17 -> 0.98986829
A22: Council for Catholic Maintained Schools | B22: Total invoices paid | C22: ='DE & ALBS'!D19 -> 0 | D22: ='DE & ALBS'!E19 -> 67 | E22: ='DE & ALBS'!F19 -> 48 | F22: ='DE & ALBS'!G19 -> 68 | G22: ='DE & ALBS'!H19 -> 34 | H22: ='DE & ALBS'!I19 -> 41 | I22: ='DE & ALBS'!J19 -> 0 | J22: ='DE & ALBS'!K19 -> 0 | ... P22: ='DE & ALBS'!Q19 -> 258
B23: Total invoices paid within 10 days | C23: ='DE & ALBS'!D20 -> 0 | D23: ='DE & ALBS'!E20 -> 66 | E23: ='DE & ALBS'!F20 -> 47 | F23: ='DE & ALBS'!G20 -> 68 | G23: ='DE & ALBS'!H20 -> 32 | H23: ='DE & ALBS'!I20 -> 41 | I23: ='DE & ALBS'!J20 -> 0 | J23: ='DE & ALBS'!K20 -> 0 | ... P23: ='DE & ALBS'!Q20 -> 254
B24: Percentage of invoices paid within 10 days | C24: =C23/C22 -> #DIV/0! | D24: =D23/D22 -> 0.98507463 | E24: =E23/E22 -> 0.97916667 | F24: =F23/F22 -> 1 | G24: =G23/G22 -> 0.94117647 | H24: =H23/H22 -> 1 | I24: =I23/I22 -> #DIV/0! | J24: =J23/J22 -> #DIV/0! | ... P24: =P23/P22 -> 0.98449612
B25: Total invoices paid within 30 days | C25: ='DE & ALBS'!D22 -> 0 | D25: ='DE & ALBS'!E22 -> 66 | E25: ='DE & ALBS'!F22 -> 47 | F25: ='DE & ALBS'!G22 -> 68 | G25: ='DE & ALBS'!H22 -> 34 | H25: ='DE & ALBS'!I22 -> 41 | I25: ='DE & ALBS'!J22 -> 0 | J25: ='DE & ALBS'!K22 -> 0 | ... P25: ='DE & ALBS'!Q22 -> 256
B26: Percentage of invoices paid within 30 days | C26: =C25/C22 -> #DIV/0! | D26: =D25/D22 -> 0.98507463 | E26: =E25/E22 -> 0.97916667 | F26: =F25/F22 -> 1 | G26: =G25/G22 -> 1 | H26: =H25/H22 -> 1 | I26: =I25/I22 -> #DIV/0! | J26: =J25/J22 -> #DIV/0! | ... P26: =P25/P22 -> 0.99224806
B27: Total invoices paid within 30 days | D27: ='DE & ALBS'!#REF! -> #REF! | E27: ='DE & ALBS'!#REF! -> #REF! | F27: ='DE & ALBS'!#REF! -> #REF! | G27: ='DE & ALBS'!#REF! -> #REF! | H27: ='DE & ALBS'!#REF! -> #REF! | I27: ='DE & ALBS'!#REF! -> #REF! | J27: ='DE & ALBS'!#REF! -> #REF! | K27: ='DE & ALBS'!#REF! -> #REF! | ... Q27: ='DE & ALBS'!#REF! -> #REF!
B28: Percentage of invoices paid within 30 days | D28: =D27/#REF! -> #REF! | E28: =E27/#REF! -> #REF! | F28: =F27/#REF! -> #REF! | G28: =G27/#REF! -> #REF! | H28: =H27/#REF! -> #REF! | I28: =I27/#REF! -> #REF! | J28: =J27/#REF! -> #REF! | K28: =K27/#REF! -> #REF! | ... Q28: =Q27/#REF! -> #REF!
B29: Total invoices paid within 30 days | D29: =C10+C15+C20+C25+D27 -> #REF! | E29: =D10+D15+D20+D25+E27 -> #REF! | F29: =E10+E15+E20+E25+F27 -> #REF! | G29: =F10+F15+F20+F25+G27 -> #REF! | H29: =G10+G15+G20+G25+H27 -> #REF! | I29: =H10+H15+H20+H25+I27 -> #REF! | J29: =I10+I15+I20+I25+J27 -> #REF! | K29: =J10+J15+J20+J25+K27 -> #REF! | ... P29: =O10+O15+O20+O25+P27 -> #REF! | Q29: =SUM(E29:P29) -> #REF!
B30: Percentage of invoices paid within 30 days | D30: =D29/#REF! -> #REF! | E30: =E29/#REF! -> #REF! | F30: =F29/#REF! -> #REF! | G30: =G29/#REF! -> #REF! | H30: =H29/#REF! -> #REF! | I30: =I29/#REF! -> #REF! | J30: =J29/#REF! -> #REF! | K30: =K29/#REF! -> #REF! | ... Q30: =Q29/#REF! -> #REF!
A31: Youth Council | B31: Total invoices paid | C31: ='DE & ALBS'!D24 -> 0 | D31: ='DE & ALBS'!E24 -> 0 | E31: ='DE & ALBS'!F24 -> 0 | F31: ='DE & ALBS'!G24 -> 0 | G31: ='DE & ALBS'!H24 -> 0 | H31: ='DE & ALBS'!I24 -> 0 | I31: ='DE & ALBS'!J24 -> 0 | J31: ='DE & ALBS'!K24 -> 0 | ... P31: ='DE & ALBS'!Q24 -> 0
B32: Total Invoices paid within 10 days | C32: ='DE & ALBS'!D25 -> 0 | D32: ='DE & ALBS'!E25 -> 0 | E32: ='DE & ALBS'!F25 -> 0 | F32: ='DE & ALBS'!G25 -> 0 | G32: ='DE & ALBS'!H25 -> 0 | H32: ='DE & ALBS'!I25 -> 0 | I32: ='DE & ALBS'!J25 -> 0 | J32: ='DE & ALBS'!K25 -> 0 | ... P32: ='DE & ALBS'!Q25 -> 0
B33: Percentage of invoices paid within 10 days | C33: =C32/C31 -> #DIV/0! | D33: =D32/D31 -> #DIV/0! | E33: =E32/E31 -> #DIV/0! | F33: =F32/F31 -> #DIV/0! | G33: =G32/G31 -> #DIV/0! | H33: =H32/H31 -> #DIV/0! | I33: =I32/I31 -> #DIV/0! | J33: =J32/J31 -> #DIV/0! | ... P33: =P32/P31 -> #DIV/0!
B34: Total invoices paid within 30 days | C34: ='DE & ALBS'!D27 -> 0 | D34: ='DE & ALBS'!E27 -> 0 | E34: ='DE & ALBS'!F27 -> 0 | F34: ='DE & ALBS'!G27 -> 0 | G34: ='DE & ALBS'!H27 -> 0 | H34: ='DE & ALBS'!I27 -> 0 | I34: ='DE & ALBS'!J27 -> 0 | J34: ='DE & ALBS'!K27 -> 0 | ... P34: ='DE & ALBS'!Q27 -> 0
B35: Percentage of invoices paid within 30 days | C35: =C34/C31 -> #DIV/0! | D35: =D34/D31 -> #DIV/0! | E35: =E34/E31 -> #DIV/0! | F35: =F34/F31 -> #DIV/0! | G35: =G34/G31 -> #DIV/0! | H35: =H34/H31 -> #DIV/0! | I35: =I34/I31 -> #DIV/0! | J35: =J34/J31 -> #DIV/0! | ... P35: =P34/P31 -> #DIV/0!
A40: ARMS LENGTH BODIES - PROMPT PAYMENT TABLE FOR 2026-27
A41: COMPLIANCE WITH PROMPT PAYMENT POLICY | C41: 2025/26 | D41: April | E41: May | F41: June | G41: July | H41: August | I41: September | J41: October | K41: November | L41: December | M41: January | N41: February | O41: March | P41: Year to date Totals
A43: Northern Ireland Council for Integrated Education NICIE | B43: Total invoices paid | C43: ='Newer ALBS'!D4 -> 0 | D43: ='Newer ALBS'!E4 -> 25 | E43: ='Newer ALBS'!F4 -> 29 | F43: ='Newer ALBS'!G4 -> 52 | G43: ='Newer ALBS'!H4 -> 24 | H43: ='Newer ALBS'!I4 -> 23 | I43: ='Newer ALBS'!J4 -> 0 | J43: ='Newer ALBS'!K4 -> 0 | ... P43: ='Newer ALBS'!Q4 -> 153
B44: Total invoices paid within 10 days | C44: ='Newer ALBS'!D5 -> 0 | D44: ='Newer ALBS'!E5 -> 23 | E44: ='Newer ALBS'!F5 -> 27 | F44: ='Newer ALBS'!G5 -> 49 | G44: ='Newer ALBS'!H5 -> 23 | H44: ='Newer ALBS'!I5 -> 21 | I44: ='Newer ALBS'!J5 -> 0 | J44: ='Newer ALBS'!K5 -> 0 | ... P44: ='Newer ALBS'!Q5 -> 143
B45: Percentage of invoices paid within 10 days | C45: =C44/C43 -> #DIV/0! | D45: =D44/D43 -> 0.92 | E45: =E44/E43 -> 0.93103448 | F45: =F44/F43 -> 0.94230769 | G45: =G44/G43 -> 0.95833333 | H45: =H44/H43 -> 0.91304348 | I45: =I44/I43 -> #DIV/0! | J45: =J44/J43 -> #DIV/0! | ... P45: =P44/P43 -> 0.93464052
B46: Total invoices paid within 30 days | C46: ='Newer ALBS'!D7 -> 0 | D46: ='Newer ALBS'!E7 -> 25 | E46: ='Newer ALBS'!F7 -> 29 | F46: ='Newer ALBS'!G7 -> 52 | G46: ='Newer ALBS'!H7 -> 24 | H46: ='Newer ALBS'!I7 -> 23 | I46: ='Newer ALBS'!J7 -> 0 | J46: ='Newer ALBS'!K7 -> 0 | ... O46: ='Newer ALBS'!P7 -> 0 | P46: ='Newer ALBS'!R7 -> 0
B47: Percentage of invoices paid within 30 days | C47: =C46/C43 -> #DIV/0! | D47: =D46/D43 -> 1 | E47: =E46/E43 -> 1 | F47: =F46/F43 -> 1 | G47: =G46/G43 -> 1 | H47: =H46/H43 -> 1 | I47: =I46/I43 -> #DIV/0! | J47: =J46/J43 -> #DIV/0! | ... P47: =P46/P43 -> 0
...

Sheet DE Board Info - 2
B1: Total invoices paid within 30 days | E1: 533196 | F1: =#REF!+#REF!+#REF!+#REF!+#REF! -> #REF! | G1: =#REF!+#REF!+#REF!+#REF!+#REF! -> #REF! | H1: =#REF!+#REF!+#REF!+#REF!+#REF! -> #REF! | I1: =#REF!+#REF!+#REF!+#REF!+#REF! -> #REF! | J1: =#REF!+#REF!+#REF!+#REF!+#REF! -> #REF! | K1: =#REF!+#REF!+#REF!+#REF!+#REF! -> #REF! | L1: =#REF!+#REF!+#REF!+#REF!+#REF! -> #REF! | M1: =#REF!+#REF!+#REF!+#REF!+#REF! -> #REF! | ... Q1: =#REF!+#REF!+#REF!+#REF!+#REF! -> #REF! | R1: =SUM(F1:Q1) -> #REF!
B2: Percentage of invoices paid within 30 days | E2: =E1/#REF! -> #REF! | F2: =F1/#REF! -> #REF! | G2: =G1/#REF! -> #REF! | H2: =H1/#REF! -> #REF! | I2: =I1/#REF! -> #REF! | J2: =J1/#REF! -> #REF! | K2: =K1/#REF! -> #REF! | L2: =L1/#REF! -> #REF! | ... R2: =R1/#REF! -> #REF!
A4: DE & ARMS LENGTH BODIES - PROMPT PAYMENT TABLE FOR 2026-27
A5: COMPLIANCE WITH PROMPT PAYMENT POLICY | C5: February | D5: ='DE & ALBS'!C3 -> March | E5: 2025/26 | F5: April | G5: May | H5: June | I5: July | J5: August | K5: September | L5: October | M5: November | N5: December | O5: January | P5: February | Q5: March | R5: Year to date Totals
A7: Department of Education | B7: Total invoices paid | D7: ='DE & ALBS'!C4 -> 0 | E7: ='DE & ALBS'!D4 -> 0 | F7: ='DE & ALBS'!E4 -> 138 | G7: ='DE & ALBS'!F4 -> 149 | H7: ='DE & ALBS'!G4 -> 125 | I7: ='DE & ALBS'!H4 -> 129 | J7: ='DE & ALBS'!I4 -> 128 | K7: ='DE & ALBS'!J4 -> 163 | ... R7: ='DE & ALBS'!Q4 -> 832
B8: Total Invoices paid within 10 days | D8: ='DE & ALBS'!C5 -> 0 | E8: ='DE & ALBS'!D5 -> 0 | F8: ='DE & ALBS'!E5 -> 127 | G8: ='DE & ALBS'!F5 -> 146 | H8: ='DE & ALBS'!G5 -> 115 | I8: ='DE & ALBS'!H5 -> 117 | J8: ='DE & ALBS'!I5 -> 115 | K8: ='DE & ALBS'!J5 -> 145 | ... R8: ='DE & ALBS'!Q5 -> 765
B9: Percentage of invoices paid within 10 days | D9: =D8/D7 -> #DIV/0! | E9: =E8/E7 -> #DIV/0! | F9: =F8/F7 -> 0.92028986 | G9: =G8/G7 -> 0.97986577 | H9: =H8/H7 -> 0.92 | I9: =I8/I7 -> 0.90697674 | J9: =J8/J7 -> 0.8984375 | K9: =K8/K7 -> 0.88957055 | ... R9: =R8/R7 -> 0.91947115
B10: Total invoices paid within 30 days | E10: ='DE & ALBS'!D7 -> 0 | F10: ='DE & ALBS'!E7 -> 137 | G10: ='DE & ALBS'!F7 -> 149 | H10: ='DE & ALBS'!G7 -> 125 | I10: ='DE & ALBS'!H7 -> 126 | J10: ='DE & ALBS'!I7 -> 127 | K10: ='DE & ALBS'!J7 -> 152 | L10: ='DE & ALBS'!K7 -> 0 | ... R10: ='DE & ALBS'!Q7 -> 816
B11: Percentage of invoices paid within 30 days | E11: =E10/E7 -> #DIV/0! | F11: =F10/F7 -> 0.99275362 | G11: =G10/G7 -> 1 | H11: =H10/H7 -> 1 | I11: =I10/I7 -> 0.97674419 | J11: =J10/J7 -> 0.9921875 | K11: =K10/K7 -> 0.93251534 | L11: =L10/L7 -> #DIV/0! | ... R11: =R10/R7 -> 0.98076923
A12: Education Authority | B12: Total invoices paid | D12: ='DE & ALBS'!C9 -> 0 | E12: ='DE & ALBS'!D9 -> 0 | F12: ='DE & ALBS'!E9 -> 20423 | G12: ='DE & ALBS'!F9 -> 30022 | H12: ='DE & ALBS'!G9 -> 43082 | I12: ='DE & ALBS'!H9 -> 25866 | J12: ='DE & ALBS'!I9 -> 16058 | K12: ='DE & ALBS'!J9 -> 0 | ... R12: ='DE & ALBS'!Q9 -> 135451
B13: Total invoices paid within 10 days | D13: ='DE & ALBS'!C10 -> 0 | E13: ='DE & ALBS'!D10 -> 0 | F13: ='DE & ALBS'!E10 -> 17581 | G13: ='DE & ALBS'!F10 -> 25873 | H13: ='DE & ALBS'!G10 -> 36720 | I13: ='DE & ALBS'!H10 -> 22106 | J13: ='DE & ALBS'!I10 -> 14542 | K13: ='DE & ALBS'!J10 -> 0 | ... R13: ='DE & ALBS'!Q10 -> 116822
B14: Percentage of invoices paid within 10 days | D14: =D13/D12 -> #DIV/0! | E14: =E13/E12 -> #DIV/0! | F14: =F13/F12 -> 0.86084317 | G14: =G13/G12 -> 0.86180135 | H14: =H13/H12 -> 0.85232812 | I14: =I13/I12 -> 0.85463543 | J14: =J13/J12 -> 0.90559223 | K14: =K13/K12 -> #DIV/0! | ... R14: =R13/R12 -> 0.86246687
B15: Total invoices paid within 30 days | E15: ='DE & ALBS'!D12 -> 0 | F15: ='DE & ALBS'!E12 -> 19549 | G15: ='DE & ALBS'!F12 -> 28940 | H15: ='DE & ALBS'!G12 -> 41550 | I15: ='DE & ALBS'!H12 -> 24630 | J15: ='DE & ALBS'!I12 -> 15014 | K15: ='DE & ALBS'!J12 -> 0 | L15: ='DE & ALBS'!K12 -> 0 | ... R15: ='DE & ALBS'!Q12 -> 129683
B16: Percentage of invoices paid within 30 days | E16: =E15/E12 -> #DIV/0! | F16: =F15/F12 -> 0.95720511 | G16: =G15/G12 -> 0.96395976 | H16: =H15/H12 -> 0.96443991 | I16: =I15/I12 -> 0.95221526 | J16: =J15/J12 -> 0.93498568 | K16: =K15/K12 -> #DIV/0! | L16: =L15/L12 -> #DIV/0! | ... R16: =R15/R12 -> 0.95741634
A17: Council for the Curriculum, Examinations & Assessment | B17: Total invoices paid | D17: ='DE & ALBS'!C14 -> 0 | E17: ='DE & ALBS'!D14 -> 0 | F17: ='DE & ALBS'!E14 -> 124 | G17: ='DE & ALBS'!F14 -> 169 | H17: ='DE & ALBS'!G14 -> 247 | I17: ='DE & ALBS'!H14 -> 156 | J17: ='DE & ALBS'!I14 -> 152 | K17: ='DE & ALBS'!J14 -> 139 | ... R17: ='DE & ALBS'!Q14 -> 987
B18: Total Invoices paid within 10 days | D18: ='DE & ALBS'!C15 -> 0 | E18: ='DE & ALBS'!D15 -> 0 | F18: ='DE & ALBS'!E15 -> 119 | G18: ='DE & ALBS'!F15 -> 162 | H18: ='DE & ALBS'!G15 -> 237 | I18: ='DE & ALBS'!H15 -> 151 | J18: ='DE & ALBS'!I15 -> 142 | K18: ='DE & ALBS'!J15 -> 136 | ... R18: ='DE & ALBS'!Q15 -> 947
B19: Percentage of invoices paid within 10 days | D19: =D18/D17 -> #DIV/0! | E19: =E18/E17 -> #DIV/0! | F19: =F18/F17 -> 0.95967742 | G19: =G18/G17 -> 0.95857988 | H19: =H18/H17 -> 0.95951417 | I19: =I18/I17 -> 0.96794872 | J19: =J18/J17 -> 0.93421053 | K19: =K18/K17 -> 0.97841727 | ... R19: =R18/R17 -> 0.95947315
B20: Total invoices paid within 30 days | E20: ='DE & ALBS'!D17 -> 0 | F20: ='DE & ALBS'!E17 -> 122 | G20: ='DE & ALBS'!F17 -> 167 | H20: ='DE & ALBS'!G17 -> 246 | I20: ='DE & ALBS'!H17 -> 153 | J20: ='DE & ALBS'!I17 -> 150 | K20: ='DE & ALBS'!J17 -> 139 | L20: ='DE & ALBS'!K17 -> 0 | ... R20: ='DE & ALBS'!Q17 -> 977
B21: Percentage of invoices paid within 30 days | E21: =E20/E17 -> #DIV/0! | F21: =F20/F17 -> 0.98387097 | G21: =G20/G17 -> 0.98816568 | H21: =H20/H17 -> 0.99595142 | I21: =I20/I17 -> 0.98076923 | J21: =J20/J17 -> 0.98684211 | K21: =K20/K17 -> 1 | L21: =L20/L17 -> #DIV/0! | ... R21: =R20/R17 -> 0.98986829
A22: Council for Catholic Maintained Schools | B22: Total invoices paid | D22: ='DE & ALBS'!C19 -> 0 | E22: ='DE & ALBS'!D19 -> 0 | F22: ='DE & ALBS'!E19 -> 67 | G22: ='DE & ALBS'!F19 -> 48 | H22: ='DE & ALBS'!G19 -> 68 | I22: ='DE & ALBS'!H19 -> 34 | J22: ='DE & ALBS'!I19 -> 41 | K22: ='DE & ALBS'!J19 -> 0 | ... R22: ='DE & ALBS'!Q19 -> 258
B23: Total invoices paid within 10 days | D23: ='DE & ALBS'!C20 -> 0 | E23: ='DE & ALBS'!D20 -> 0 | F23: ='DE & ALBS'!E20 -> 66 | G23: ='DE & ALBS'!F20 -> 47 | H23: ='DE & ALBS'!G20 -> 68 | I23: ='DE & ALBS'!H20 -> 32 | J23: ='DE & ALBS'!I20 -> 41 | K23: ='DE & ALBS'!J20 -> 0 | ... R23: ='DE & ALBS'!Q20 -> 254
B24: Percentage of invoices paid within 10 days | D24: =D23/D22 -> #DIV/0! | E24: =E23/E22 -> #DIV/0! | F24: =F23/F22 -> 0.98507463 | G24: =G23/G22 -> 0.97916667 | H24: =H23/H22 -> 1 | I24: =I23/I22 -> 0.94117647 | J24: =J23/J22 -> 1 | K24: =K23/K22 -> #DIV/0! | ... R24: =R23/R22 -> 0.98449612
B25: Total invoices paid within 30 days | E25: ='DE & ALBS'!D22 -> 0 | F25: ='DE & ALBS'!E22 -> 66 | G25: ='DE & ALBS'!F22 -> 47 | H25: ='DE & ALBS'!G22 -> 68 | I25: ='DE & ALBS'!H22 -> 34 | J25: ='DE & ALBS'!I22 -> 41 | K25: ='DE & ALBS'!J22 -> 0 | L25: ='DE & ALBS'!K22 -> 0 | ... R25: ='DE & ALBS'!Q22 -> 256
B26: Percentage of invoices paid within 30 days | E26: =E25/E22 -> #DIV/0! | F26: =F25/F22 -> 0.98507463 | G26: =G25/G22 -> 0.97916667 | H26: =H25/H22 -> 1 | I26: =I25/I22 -> 1 | J26: =J25/J22 -> 1 | K26: =K25/K22 -> #DIV/0! | L26: =L25/L22 -> #DIV/0! | ... R26: =R25/R22 -> 0.99224806
A27: Youth Council | B27: Total invoices paid | D27: ='DE & ALBS'!C24 -> 0 | E27: ='DE & ALBS'!D24 -> 0 | F27: ='DE & ALBS'!E24 -> 0 | G27: ='DE & ALBS'!F24 -> 0 | H27: ='DE & ALBS'!G24 -> 0 | I27: ='DE & ALBS'!H24 -> 0 | J27: ='DE & ALBS'!I24 -> 0 | K27: ='DE & ALBS'!J24 -> 0 | ... R27: ='DE & ALBS'!Q24 -> 0
B28: Total Invoices paid within 10 days | D28: ='DE & ALBS'!C25 -> 0 | E28: ='DE & ALBS'!D25 -> 0 | F28: ='DE & ALBS'!E25 -> 0 | G28: ='DE & ALBS'!F25 -> 0 | H28: ='DE & ALBS'!G25 -> 0 | I28: ='DE & ALBS'!H25 -> 0 | J28: ='DE & ALBS'!I25 -> 0 | K28: ='DE & ALBS'!J25 -> 0 | ... R28: ='DE & ALBS'!Q25 -> 0
B29: Percentage of invoices paid within 10 days | D29: =D28/D27 -> #DIV/0! | E29: =E28/E27 -> #DIV/0! | F29: =F28/F27 -> #DIV/0! | G29: =G28/G27 -> #DIV/0! | H29: =H28/H27 -> #DIV/0! | I29: =I28/I27 -> #DIV/0! | J29: =J28/J27 -> #DIV/0! | K29: =K28/K27 -> #DIV/0! | ... R29: =R28/R27 -> #DIV/0!
B30: Total invoices paid within 30 days | C30: 0 | D30: ='DE & ALBS'!C27 -> 0 | E30: ='DE & ALBS'!D27 -> 0 | F30: ='DE & ALBS'!E27 -> 0 | G30: ='DE & ALBS'!F27 -> 0 | H30: ='DE & ALBS'!G27 -> 0 | I30: ='DE & ALBS'!H27 -> 0 | J30: ='DE & ALBS'!I27 -> 0 | K30: ='DE & ALBS'!J27 -> 0 | ... R30: ='DE & ALBS'!Q27 -> 0
B31: Percentage of invoices paid within 30 days | C31: 0 | D31: =D30/D27 -> #DIV/0! | E31: =E30/E27 -> #DIV/0! | F31: =F30/F27 -> #DIV/0! | G31: =G30/G27 -> #DIV/0! | H31: =H30/H27 -> #DIV/0! | I31: =I30/I27 -> #DIV/0! | J31: =J30/J27 -> #DIV/0! | K31: =K30/K27 -> #DIV/0! | ... R31: =R30/R27 -> #DIV/0!
A35: ARMS LENGTH BODIES - PROMPT PAYMENT TABLE FOR 2026-27
A36: COMPLIANCE WITH PROMPT PAYMENT POLICY | C36: February | D36: March | E36: 2025/26 | F36: April | G36: May | H36: June | I36: July | J36: August | K36: September | L36: October | M36: November | N36: December | O36: January | P36: February | Q36: March | R36: Year to date Totals
A38: Northern Ireland Council for Integrated Education NICIE | B38: Total invoices paid | D38: ='Newer ALBS'!C4 -> 0 | E38: ='Newer ALBS'!D4 -> 0 | F38: ='Newer ALBS'!E4 -> 25 | G38: ='Newer ALBS'!F4 -> 29 | H38: ='Newer ALBS'!G4 -> 52 | I38: ='Newer ALBS'!H4 -> 24 | J38: ='Newer ALBS'!I4 -> 23 | K38: ='Newer ALBS'!J4 -> 0 | ... R38: ='Newer ALBS'!Q4 -> 153
B39: Total invoices paid within 10 days | D39: ='Newer ALBS'!C5 -> 0 | E39: ='Newer ALBS'!D5 -> 0 | F39: ='Newer ALBS'!E5 -> 23 | G39: ='Newer ALBS'!F5 -> 27 | H39: ='Newer ALBS'!G5 -> 49 | I39: ='Newer ALBS'!H5 -> 23 | J39: ='Newer ALBS'!I5 -> 21 | K39: ='Newer ALBS'!J5 -> 0 | ... R39: ='Newer ALBS'!Q5 -> 143
B40: Percentage of invoices paid within 10 days | D40: =D39/D38 -> #DIV/0! | E40: =E39/E38 -> #DIV/0! | F40: =F39/F38 -> 0.92 | G40: =G39/G38 -> 0.93103448 | H40: =H39/H38 -> 0.94230769 | I40: =I39/I38 -> 0.95833333 | J40: =J39/J38 -> 0.91304348 | K40: =K39/K38 -> #DIV/0! | ... R40: =R39/R38 -> 0.93464052
B41: Total invoices paid within 30 days | D41: ='Newer ALBS'!D7 -> 0 | E41: ='Newer ALBS'!D7 -> 0 | F41: ='Newer ALBS'!E7 -> 25 | G41: ='Newer ALBS'!F7 -> 29 | H41: ='Newer ALBS'!G7 -> 52 | I41: ='Newer ALBS'!H7 -> 24 | J41: ='Newer ALBS'!I7 -> 23 | K41: ='Newer ALBS'!J7 -> 0 | L41: ='Newer ALBS'!K7 -> 0 | ... R41: ='Newer ALBS'!Q7 -> 153
B42: Percentage of invoices paid within 30 days | D42: =D41/D38 -> #DIV/0! | E42: =E41/E38 -> #DIV/0! | F42: =F41/F38 -> 1 | G42: =G41/G38 -> 1 | H42: =H41/H38 -> 1 | I42: =I41/I38 -> 1 | J42: =J41/J38 -> 1 | K42: =K41/K38 -> #DIV/0! | ... R42: =R41/R38 -> 1
A43: Comhairle na Galescolaiochta CnaG | B43: Total invoices paid | D43: ='Newer ALBS'!C9 -> 0 | E43: ='Newer ALBS'!D9 -> 0 | F43: ='Newer ALBS'!E9 -> 4 | G43: ='Newer ALBS'!F9 -> 9 | H43: ='Newer ALBS'!G9 -> 12 | I43: ='Newer ALBS'!H9 -> 7 | J43: ='Newer ALBS'!I9 -> 6 | K43: ='Newer ALBS'!J9 -> 8 | ... R43: ='Newer ALBS'!Q9 -> 46
B44: Total Invoices paid within 10 days | D44: ='Newer ALBS'!C10 -> 0 | E44: ='Newer ALBS'!D10 -> 0 | F44: ='Newer ALBS'!E10 -> 0 | G44: ='Newer ALBS'!F10 -> 5 | H44: ='Newer ALBS'!G10 -> 5 | I44: ='Newer ALBS'!H10 -> 2 | J44: ='Newer ALBS'!I10 -> 2 | K44: ='Newer ALBS'!J10 -> 0 | ... R44: ='Newer ALBS'!Q10 -> 14
B45: Percentage of invoices paid within 10 days | D45: =D44/D43 -> #DIV/0! | E45: =E44/E43 -> #DIV/0! | F45: =F44/F43 -> 0 | G45: =G44/G43 -> 0.55555556 | H45: =H44/H43 -> 0.41666667 | I45: =I44/I43 -> 0.28571429 | J45: =J44/J43 -> 0.33333333 | K45: =K44/K43 -> 0 | ... R45: =R44/R43 -> 0.30434783
B46: Total invoices paid within 30 days | D46: ='Newer ALBS'!D12 -> 0 | E46: ='Newer ALBS'!D12 -> 0 | F46: ='Newer ALBS'!E12 -> 4 | G46: ='Newer ALBS'!F12 -> 8 | H46: ='Newer ALBS'!G12 -> 10 | I46: ='Newer ALBS'!H12 -> 5 | J46: ='Newer ALBS'!I12 -> 6 | K46: ='Newer ALBS'!J12 -> 4 | L46: ='Newer ALBS'!K12 -> 0 | ... R46: ='Newer ALBS'!Q12 -> 37
...

Sheet DE Website
A2: ARMS LENGTH BODIES - PROMPT PAYMENT TABLE FOR 2026-2027
A3: COMPLIANCE WITH PROMPT PAYMENT POLICY | C3: April | D3: May | E3: June | F3: July | G3: August | H3: September | I3: October | J3: November | K3: December | L3: January | M3: February | N3: March | O3: Year to date Totals
A5: Education Authority | B5: Total invoices paid | C5: ='DE & ALBS'!E9 -> 20423 | D5: ='DE & ALBS'!F9 -> 30022 | E5: ='DE & ALBS'!G9 -> 43082 | F5: ='DE & ALBS'!H9 -> 25866 | G5: ='DE & ALBS'!I9 -> 16058 | H5: ='DE & ALBS'!J9 -> 0 | I5: ='DE & ALBS'!K9 -> 0 | J5: ='DE & ALBS'!L9 -> 0 | ... O5: ='DE & ALBS'!Q9 -> 135451
B6: Total invoices paid within 10 days | C6: ='DE & ALBS'!E10 -> 17581 | D6: ='DE & ALBS'!F10 -> 25873 | E6: ='DE & ALBS'!G10 -> 36720 | F6: ='DE & ALBS'!H10 -> 22106 | G6: ='DE & ALBS'!I10 -> 14542 | H6: ='DE & ALBS'!J10 -> 0 | I6: ='DE & ALBS'!K10 -> 0 | J6: ='DE & ALBS'!L10 -> 0 | ... O6: ='DE & ALBS'!Q10 -> 116822
B7: Percentage of invoices paid within 10 days | C7: =C6/C5 -> 0.86084317 | D7: =D6/D5 -> 0.86180135 | E7: =E6/E5 -> 0.85232812 | F7: =F6/F5 -> 0.85463543 | G7: =G6/G5 -> 0.90559223 | H7: =H6/H5 -> #DIV/0! | I7: =I6/I5 -> #DIV/0! | J7: =J6/J5 -> #DIV/0! | ... O7: =O6/O5 -> 0.86246687
B8: Total invoices paid within 30 days | C8: ='DE & ALBS'!E12 -> 19549 | D8: ='DE & ALBS'!F12 -> 28940 | E8: ='DE & ALBS'!G12 -> 41550 | F8: ='DE & ALBS'!H12 -> 24630 | G8: ='DE & ALBS'!I12 -> 15014 | H8: ='DE & ALBS'!J12 -> 0 | I8: ='DE & ALBS'!K12 -> 0 | J8: ='DE & ALBS'!L12 -> 0 | ... O8: ='DE & ALBS'!Q12 -> 129683
B9: Percentage of invoices paid within 30 days | C9: =C8/C5 -> 0.95720511 | D9: =D8/D5 -> 0.96395976 | E9: =E8/E5 -> 0.96443991 | F9: =F8/F5 -> 0.95221526 | G9: =G8/G5 -> 0.93498568 | H9: =H8/H5 -> #DIV/0! | I9: =I8/I5 -> #DIV/0! | J9: =J8/J5 -> #DIV/0! | ... O9: =O8/O5 -> 0.95741634
A10: Council for the Curriculum, Examinations & Assessment (CCEA) | B10: Total invoices paid | C10: ='DE & ALBS'!E14 -> 124 | D10: ='DE & ALBS'!F14 -> 169 | E10: ='DE & ALBS'!G14 -> 247 | F10: ='DE & ALBS'!H14 -> 156 | G10: ='DE & ALBS'!I14 -> 152 | H10: ='DE & ALBS'!J14 -> 139 | I10: ='DE & ALBS'!K14 -> 0 | J10: ='DE & ALBS'!L14 -> 0 | ... O10: ='DE & ALBS'!Q14 -> 987
B11: Total Invoices paid within 10 days | C11: ='DE & ALBS'!E15 -> 119 | D11: ='DE & ALBS'!F15 -> 162 | E11: ='DE & ALBS'!G15 -> 237 | F11: ='DE & ALBS'!H15 -> 151 | G11: ='DE & ALBS'!I15 -> 142 | H11: ='DE & ALBS'!J15 -> 136 | I11: ='DE & ALBS'!K15 -> 0 | J11: ='DE & ALBS'!L15 -> 0 | ... O11: ='DE & ALBS'!Q15 -> 947
B12: Percentage of invoices paid within 10 days | C12: =C11/C10 -> 0.95967742 | D12: =D11/D10 -> 0.95857988 | E12: =E11/E10 -> 0.95951417 | F12: =F11/F10 -> 0.96794872 | G12: =G11/G10 -> 0.93421053 | H12: =H11/H10 -> 0.97841727 | I12: =I11/I10 -> #DIV/0! | J12: =J11/J10 -> #DIV/0! | ... O12: =O11/O10 -> 0.95947315
B13: Total invoices paid within 30 days | C13: ='DE & ALBS'!E17 -> 122 | D13: ='DE & ALBS'!F17 -> 167 | E13: ='DE & ALBS'!G17 -> 246 | F13: ='DE & ALBS'!H17 -> 153 | G13: ='DE & ALBS'!I17 -> 150 | H13: ='DE & ALBS'!J17 -> 139 | I13: ='DE & ALBS'!K17 -> 0 | J13: ='DE & ALBS'!L17 -> 0 | ... O13: ='DE & ALBS'!Q17 -> 977
B14: Percentage of invoices paid within 30 days | C14: =C13/C10 -> 0.98387097 | D14: =D13/D10 -> 0.98816568 | E14: =E13/E10 -> 0.99595142 | F14: =F13/F10 -> 0.98076923 | G14: =G13/G10 -> 0.98684211 | H14: =H13/H10 -> 1 | I14: =I13/I10 -> #DIV/0! | J14: =J13/J10 -> #DIV/0! | ... O14: =O13/O10 -> 0.98986829
A15: Council for Catholic Maintained Schools (CCMS) | B15: Total invoices paid | C15: ='DE & ALBS'!E19 -> 67 | D15: ='DE & ALBS'!F19 -> 48 | E15: ='DE & ALBS'!G19 -> 68 | F15: ='DE & ALBS'!H19 -> 34 | G15: ='DE & ALBS'!I19 -> 41 | H15: ='DE & ALBS'!J19 -> 0 | I15: ='DE & ALBS'!K19 -> 0 | J15: ='DE & ALBS'!L19 -> 0 | ... O15: ='DE & ALBS'!Q19 -> 258
B16: Total invoices paid within 10 days | C16: ='DE & ALBS'!E20 -> 66 | D16: ='DE & ALBS'!F20 -> 47 | E16: ='DE & ALBS'!G20 -> 68 | F16: ='DE & ALBS'!H20 -> 32 | G16: ='DE & ALBS'!I20 -> 41 | H16: ='DE & ALBS'!J20 -> 0 | I16: ='DE & ALBS'!K20 -> 0 | J16: ='DE & ALBS'!L20 -> 0 | ... O16: ='DE & ALBS'!Q20 -> 254
B17: Percentage of invoices paid within 10 days | C17: =C16/C15 -> 0.98507463 | D17: =D16/D15 -> 0.97916667 | E17: =E16/E15 -> 1 | F17: =F16/F15 -> 0.94117647 | G17: =G16/G15 -> 1 | H17: =H16/H15 -> #DIV/0! | I17: =I16/I15 -> #DIV/0! | J17: =J16/J15 -> #DIV/0! | ... O17: =O16/O15 -> 0.98449612
B18: Total invoices paid within 30 days | C18: ='DE & ALBS'!E22 -> 66 | D18: ='DE & ALBS'!F22 -> 47 | E18: ='DE & ALBS'!G22 -> 68 | F18: ='DE & ALBS'!H22 -> 34 | G18: ='DE & ALBS'!I22 -> 41 | H18: ='DE & ALBS'!J22 -> 0 | I18: ='DE & ALBS'!K22 -> 0 | J18: ='DE & ALBS'!L22 -> 0 | ... O18: ='DE & ALBS'!Q22 -> 256
B19: Percentage of invoices paid within 30 days | C19: =C18/C15 -> 0.98507463 | D19: =D18/D15 -> 0.97916667 | E19: =E18/E15 -> 1 | F19: =F18/F15 -> 1 | G19: =G18/G15 -> 1 | H19: =H18/H15 -> #DIV/0! | I19: =I18/I15 -> #DIV/0! | J19: =J18/J15 -> #DIV/0! | ... O19: =O18/O15 -> 0.99224806
A20: Youth Council | B20: Total invoices paid | C20: ='DE & ALBS'!E24 -> 0 | D20: ='DE & ALBS'!F24 -> 0 | E20: ='DE & ALBS'!G24 -> 0 | F20: ='DE & ALBS'!H24 -> 0 | G20: ='DE & ALBS'!I24 -> 0 | H20: ='DE & ALBS'!J24 -> 0 | I20: ='DE & ALBS'!K24 -> 0 | J20: ='DE & ALBS'!L24 -> 0 | ... O20: ='DE & ALBS'!Q24 -> 0
B21: Total invoices paid within 10 days | C21: ='DE & ALBS'!E25 -> 0 | D21: ='DE & ALBS'!F25 -> 0 | E21: ='DE & ALBS'!G25 -> 0 | F21: ='DE & ALBS'!H25 -> 0 | G21: ='DE & ALBS'!I25 -> 0 | H21: ='DE & ALBS'!J25 -> 0 | I21: ='DE & ALBS'!K25 -> 0 | J21: ='DE & ALBS'!L25 -> 0 | ... O21: ='DE & ALBS'!Q25 -> 0
B22: Percentage of invoices paid within 10 days | C22: =C21/C20 -> #DIV/0! | D22: =D21/D20 -> #DIV/0! | E22: =E21/E20 -> #DIV/0! | F22: =F21/F20 -> #DIV/0! | G22: =G21/G20 -> #DIV/0! | H22: =H21/H20 -> #DIV/0! | I22: =I21/I20 -> #DIV/0! | J22: =J21/J20 -> #DIV/0! | ... O22: =O21/O20 -> #DIV/0!
B23: Total invoices paid within 30 days | C23: ='DE & ALBS'!E27 -> 0 | D23: ='DE & ALBS'!F27 -> 0 | E23: ='DE & ALBS'!G27 -> 0 | F23: ='DE & ALBS'!H27 -> 0 | G23: ='DE & ALBS'!I27 -> 0 | H23: ='DE & ALBS'!J27 -> 0 | I23: ='DE & ALBS'!K27 -> 0 | J23: ='DE & ALBS'!L27 -> 0 | ... O23: ='DE & ALBS'!Q27 -> 0
B24: Percentage of invoices paid within 30 days | C24: =C23/C20 -> #DIV/0! | D24: =D23/D20 -> #DIV/0! | E24: =E23/E20 -> #DIV/0! | F24: =F23/F20 -> #DIV/0! | G24: =G23/G20 -> #DIV/0! | H24: =H23/H20 -> #DIV/0! | I24: =I23/I20 -> #DIV/0! | J24: =J23/J20 -> #DIV/0! | ... O24: =O23/O20 -> #DIV/0!
A28: ARMS LENGTH BODIES - PROMPT PAYMENT TABLE FOR 2026-2027
A29: COMPLIANCE WITH PROMPT PAYMENT POLICY | C29: April | D29: May | E29: June | F29: July | G29: August | H29: September | I29: October | J29: November | K29: December | L29: January | M29: February | N29: March | O29: Year to date Totals
A31: Northern Ireland Council for Integrated Education NICIE | B31: Total invoices paid | C31: ='Newer ALBS'!E4 -> 25 | D31: ='Newer ALBS'!F4 -> 29 | E31: ='Newer ALBS'!G4 -> 52 | F31: ='Newer ALBS'!H4 -> 24 | G31: ='Newer ALBS'!I4 -> 23 | H31: ='Newer ALBS'!J4 -> 0 | I31: ='Newer ALBS'!K4 -> 0 | J31: ='Newer ALBS'!L4 -> 0 | ... O31: ='Newer ALBS'!Q4 -> 153
B32: Total invoices paid within 10 days | C32: ='Newer ALBS'!E5 -> 23 | D32: ='Newer ALBS'!F5 -> 27 | E32: ='Newer ALBS'!G5 -> 49 | F32: ='Newer ALBS'!H5 -> 23 | G32: ='Newer ALBS'!I5 -> 21 | H32: ='Newer ALBS'!J5 -> 0 | I32: ='Newer ALBS'!K5 -> 0 | J32: ='Newer ALBS'!L5 -> 0 | ... O32: ='Newer ALBS'!Q5 -> 143
B33: Percentage of invoices paid within 10 days | C33: =C32/C31 -> 0.92 | D33: =D32/D31 -> 0.93103448 | E33: =E32/E31 -> 0.94230769 | F33: =F32/F31 -> 0.95833333 | G33: =G32/G31 -> 0.91304348 | H33: =H32/H31 -> #DIV/0! | I33: =I32/I31 -> #DIV/0! | J33: =J32/J31 -> #DIV/0! | ... O33: =O32/O31 -> 0.93464052
B34: Total invoices paid within 30 days | C34: ='Newer ALBS'!E7 -> 25 | D34: ='Newer ALBS'!F7 -> 29 | E34: ='Newer ALBS'!G7 -> 52 | F34: ='Newer ALBS'!H7 -> 24 | G34: ='Newer ALBS'!I7 -> 23 | H34: ='Newer ALBS'!J7 -> 0 | I34: ='Newer ALBS'!K7 -> 0 | J34: ='Newer ALBS'!L7 -> 0 | ... O34: ='Newer ALBS'!Q7 -> 153
B35: Percentage of invoices paid within 30 days | C35: =C34/C31 -> 1 | D35: =D34/D31 -> 1 | E35: =E34/E31 -> 1 | F35: =F34/F31 -> 1 | G35: =G34/G31 -> 1 | H35: =H34/H31 -> #DIV/0! | I35: =I34/I31 -> #DIV/0! | J35: =J34/J31 -> #DIV/0! | ... O35: =O34/O31 -> 1
A36: Comhairle na Galescolaiochta CnaG | B36: Total invoices paid | C36: ='Newer ALBS'!E9 -> 4 | D36: ='Newer ALBS'!F9 -> 9 | E36: ='Newer ALBS'!G9 -> 12 | F36: ='Newer ALBS'!H9 -> 7 | G36: ='Newer ALBS'!I9 -> 6 | H36: ='Newer ALBS'!J9 -> 8 | I36: ='Newer ALBS'!K9 -> 0 | J36: ='Newer ALBS'!L9 -> 0 | ... O36: ='Newer ALBS'!Q9 -> 46
B37: Total Invoices paid within 10 days | C37: ='Newer ALBS'!E10 -> 0 | D37: ='Newer ALBS'!F10 -> 5 | E37: ='Newer ALBS'!G10 -> 5 | F37: ='Newer ALBS'!H10 -> 2 | G37: ='Newer ALBS'!I10 -> 2 | H37: ='Newer ALBS'!J10 -> 0 | I37: ='Newer ALBS'!K10 -> 0 | J37: ='Newer ALBS'!L10 -> 0 | ... O37: ='Newer ALBS'!Q10 -> 14
B38: Percentage of invoices paid within 10 days | C38: =C37/C36 -> 0 | D38: =D37/D36 -> 0.55555556 | E38: =E37/E36 -> 0.41666667 | F38: =F37/F36 -> 0.28571429 | G38: =G37/G36 -> 0.33333333 | H38: =H37/H36 -> 0 | I38: =I37/I36 -> #DIV/0! | J38: =J37/J36 -> #DIV/0! | ... O38: =O37/O36 -> 0.30434783
B39: Total invoices paid within 30 days | C39: ='Newer ALBS'!E12 -> 4 | D39: ='Newer ALBS'!F12 -> 8 | E39: ='Newer ALBS'!G12 -> 10 | F39: ='Newer ALBS'!H12 -> 5 | G39: ='Newer ALBS'!I12 -> 6 | H39: ='Newer ALBS'!J12 -> 4 | I39: ='Newer ALBS'!K12 -> 0 | J39: ='Newer ALBS'!L12 -> 0 | ... O39: ='Newer ALBS'!Q12 -> 37
B40: Percentage of invoices paid within 30 days | C40: =C39/C36 -> 1 | D40: =D39/D36 -> 0.88888889 | E40: =E39/E36 -> 0.83333333 | F40: =F39/F36 -> 0.71428571 | G40: =G39/G36 -> 1 | H40: =H39/H36 -> 0.5 | I40: =I39/I36 -> #DIV/0! | J40: =J39/J36 -> #DIV/0! | ... O40: =O39/O36 -> 0.80434783
A41: General Teaching Council for Northern Ireland GTCNI | B41: Total invoices paid | C41: ='Newer ALBS'!E14 -> 24 | D41: ='Newer ALBS'!F14 -> 24 | E41: ='Newer ALBS'!G14 -> 26 | F41: ='Newer ALBS'!H14 -> 14 | G41: ='Newer ALBS'!I14 -> 24 | H41: ='Newer ALBS'!J14 -> 16 | I41: ='Newer ALBS'!K14 -> 0 | J41: ='Newer ALBS'!L14 -> 0 | ... O41: ='Newer ALBS'!Q14 -> 128
B42: Total invoices paid within 10 days | C42: ='Newer ALBS'!E15 -> 24 | D42: ='Newer ALBS'!F15 -> 24 | E42: ='Newer ALBS'!G15 -> 26 | F42: ='Newer ALBS'!H15 -> 14 | G42: ='Newer ALBS'!I15 -> 24 | H42: ='Newer ALBS'!J15 -> 16 | I42: ='Newer ALBS'!K15 -> 0 | J42: ='Newer ALBS'!L15 -> 0 | ... O42: ='Newer ALBS'!Q15 -> 128
B43: Percentage of invoices paid within 10 days | C43: =C42/C41 -> 1 | D43: =D42/D41 -> 1 | E43: =E42/E41 -> 1 | F43: =F42/F41 -> 1 | G43: =G42/G41 -> 1 | H43: =H42/H41 -> 1 | I43: =I42/I41 -> #DIV/0! | J43: =J42/J41 -> #DIV/0! | ... O43: =O42/O41 -> 1
B44: Total invoices paid within 30 days | C44: ='Newer ALBS'!E17 -> 24 | D44: ='Newer ALBS'!F17 -> 24 | E44: ='Newer ALBS'!G17 -> 26 | F44: ='Newer ALBS'!H17 -> 14 | G44: ='Newer ALBS'!I17 -> 24 | H44: ='Newer ALBS'!J17 -> 16 | I44: ='Newer ALBS'!K17 -> 0 | J44: ='Newer ALBS'!L17 -> 0 | ... O44: ='Newer ALBS'!Q17 -> 128
B45: Percentage of invoices paid within 30 days | C45: =C44/C41 -> 1 | D45: =D44/D41 -> 1 | E45: =E44/E41 -> 1 | F45: =F44/F41 -> 1 | G45: =G44/G41 -> 1 | H45: =H44/H41 -> 1 | I45: =I44/I41 -> #DIV/0! | J45: =J44/J41 -> #DIV/0! | ... O45: =O44/O41 -> 1
A46: Middletown Centre for Autism | B46: Total invoices paid | C46: ='Newer ALBS'!E19 -> 70 | D46: ='Newer ALBS'!F19 -> 62 | E46: ='Newer ALBS'!G19 -> 71 | F46: ='Newer ALBS'!H19 -> 70 | G46: ='Newer ALBS'!I19 -> 60 | H46: ='Newer ALBS'!J19 -> 0 | I46: ='Newer ALBS'!K19 -> 0 | J46: ='Newer ALBS'!L19 -> 0 | ... O46: ='Newer ALBS'!Q19 -> 333
...

Sheet DE Website (2)
A1: ARMS LENGTH BODIES - PROMPT PAYMENT TABLE FOR 2026-27
A2: COMPLIANCE WITH PROMPT PAYMENT POLICY | C2: April | D2: May | E2: June | F2: July | G2: August | H2: September | I2: October | J2: November | K2: December | L2: January | M2: February | N2: March | O2: Year to date Totals
A4: Education Authority | B4: Total invoices paid | C4: 20423 | D4: 30022 | E4: 43082 | F4: 25866 | G4: 16058 | O4: ='DE & ALBS'!Q9 -> 135451
B5: Total invoices paid within 10 days | C5: 17581 | D5: 25873 | E5: 36720 | F5: 22106 | G5: 14542 | O5: ='DE & ALBS'!Q10 -> 116822
B6: Percentage of invoices paid within 10 days | C6: 0.8608 | D6: 0.8618 | E6: 0.8523 | F6: 0.8546 | G6: 0.9056 | O6: =O5/O4 -> 0.86246687
B7: Total invoices paid within 30 days | C7: 19549 | D7: 28940 | E7: 41550 | F7: 24630 | G7: 15014 | O7: ='DE & ALBS'!Q12 -> 129683
B8: Percentage of invoices paid within 30 days | C8: 0.9572 | D8: 0.964 | E8: 0.9644 | F8: 0.9522 | G8: 0.935 | O8: =O7/O4 -> 0.95741634
A9: Council for the Curriculum, Examinations & Assessment (CCEA) | B9: Total invoices paid | C9: 124 | D9: 169 | E9: 247 | F9: 156 | G9: 152 | O9: ='DE & ALBS'!Q14 -> 987
B10: Total Invoices paid within 10 days | C10: 119 | D10: 162 | E10: 237 | F10: 151 | G10: 142 | O10: ='DE & ALBS'!Q15 -> 947
B11: Percentage of invoices paid within 10 days | C11: 0.9597 | D11: 0.9586 | E11: 0.9595 | F11: 0.9679 | G11: 0.9342 | O11: =O10/O9 -> 0.95947315
B12: Total invoices paid within 30 days | C12: 122 | D12: 167 | E12: 246 | F12: 153 | G12: 150 | O12: ='DE & ALBS'!Q17 -> 977
B13: Percentage of invoices paid within 30 days | C13: 0.9839 | D13: 0.9882 | E13: 0.996 | F13: 0.9808 | G13: 0.9868 | O13: =O12/O9 -> 0.98986829
A14: Council for Catholic Maintained Schools (CCMS) | B14: Total invoices paid | C14: 67 | D14: 48 | E14: 68 | F14: 34 | G14: 41 | O14: ='DE & ALBS'!Q19 -> 258
B15: Total invoices paid within 10 days | C15: 66 | D15: 47 | E15: 68 | F15: 32 | G15: 41 | O15: ='DE & ALBS'!Q20 -> 254
B16: Percentage of invoices paid within 10 days | C16: 0.9851 | D16: 0.9792 | E16: 1 | F16: 0.9412 | G16: 1 | O16: =O15/O14 -> 0.98449612
B17: Total invoices paid within 30 days | C17: 66 | D17: 47 | E17: 68 | F17: 34 | G17: 41 | O17: ='DE & ALBS'!Q22 -> 256
B18: Percentage of invoices paid within 30 days | C18: 0.9851 | D18: 0.9792 | E18: 1 | F18: 1 | G18: 1 | O18: =O17/O14 -> 0.99224806
A19: Youth Council * | B19: Total invoices paid | C19: 0 | D19: 0 | E19: 0 | F19: 0 | G19: 0 | O19: ='DE & ALBS'!Q24 -> 0
B20: Total invoices paid within 10 days | C20: 0 | D20: 0 | E20: 0 | F20: 0 | G20: 0 | O20: ='DE & ALBS'!Q25 -> 0
B21: Percentage of invoices paid within 10 days | C21: 0 | D21: 0 | E21: 0 | F21: 0 | G21: 0 | O21: =O20/O19 -> #DIV/0!
B22: Total invoices paid within 30 days | C22: 0 | D22: 0 | E22: 0 | F22: 0 | G22: 0 | O22: ='DE & ALBS'!Q27 -> 0
B23: Percentage of invoices paid within 30 days | C23: 0 | D23: 0 | E23: 0 | F23: 0 | G23: 0 | O23: =O22/O19 -> #DIV/0!
A27: ARMS LENGTH BODIES - PROMPT PAYMENT TABLE FOR 2026-2027
A28: COMPLIANCE WITH PROMPT PAYMENT POLICY | C28: April | D28: May | E28: June | F28: July | G28: August | H28: September | I28: October | J28: November | K28: December | L28: January | M28: February | N28: March | O28: Year to date Totals
A30: Northern Ireland Council for Integrated Education NICIE | B30: Total invoices paid | C30: 25 | D30: 29 | E30: 52 | F30: 24 | G30: 23 | O30: ='Newer ALBS'!Q4 -> 153
B31: Total invoices paid within 10 days | C31: 23 | D31: 27 | E31: 49 | F31: 23 | G31: 21 | O31: ='Newer ALBS'!Q5 -> 143
B32: Percentage of invoices paid within 10 days | C32: 0.92 | D32: 0.931 | E32: 0.9423 | F32: 0.9583 | G32: 0.913 | O32: =O31/O30 -> 0.93464052
B33: Total invoices paid within 30 days | C33: 25 | D33: 29 | E33: 52 | F33: 24 | G33: 23 | O33: ='Newer ALBS'!Q7 -> 153
B34: Percentage of invoices paid within 30 days | C34: 1 | D34: 1 | E34: 1 | F34: 1 | G34: 1 | O34: =O33/O30 -> 1
A35: Comhairle na Galescolaiochta CnaG | B35: Total invoices paid | C35: 4 | D35: 9 | E35: 12 | F35: 7 | G35: 6 | O35: ='Newer ALBS'!Q9 -> 46
B36: Total Invoices paid within 10 days | C36: 0 | D36: 5 | E36: 5 | F36: 2 | G36: 2 | O36: ='Newer ALBS'!Q10 -> 14
B37: Percentage of invoices paid within 10 days | C37: 0 | D37: 0.5556 | E37: 0.4167 | F37: 0.2857 | G37: 0.3333 | O37: =O36/O35 -> 0.30434783
B38: Total invoices paid within 30 days | C38: 4 | D38: 8 | E38: 10 | F38: 5 | G38: 6 | O38: ='Newer ALBS'!Q12 -> 37
B39: Percentage of invoices paid within 30 days | C39: 1 | D39: 0.8889 | E39: 0.8333 | F39: 0.7143 | G39: 1 | O39: =O38/O35 -> 0.80434783
A40: General Teaching Council for Northern Ireland GTCNI | B40: Total invoices paid | C40: 24 | D40: 24 | E40: 26 | F40: 14 | G40: 24 | O40: ='Newer ALBS'!Q14 -> 128
B41: Total invoices paid within 10 days | C41: 24 | D41: 24 | E41: 26 | F41: 14 | G41: 24 | O41: ='Newer ALBS'!Q15 -> 128
B42: Percentage of invoices paid within 10 days | C42: 1 | D42: 1 | E42: 1 | F42: 1 | G42: 1 | O42: =O41/O40 -> 1
B43: Total invoices paid within 30 days | C43: 24 | D43: 24 | E43: 26 | F43: 14 | G43: 24 | O43: ='Newer ALBS'!Q17 -> 128
B44: Percentage of invoices paid within 30 days | C44: 1 | D44: 1 | E44: 1 | F44: 1 | G44: 1 | O44: =O43/O40 -> 1
A45: Middletown Centre for Autism | B45: Total invoices paid | C45: 70 | D45: 62 | E45: 71 | F45: 70 | G45: 60 | O45: ='Newer ALBS'!Q19 -> 333
...
